BEGIN:VCALENDAR
VERSION:2.0
PRODID:-//Chinmaya Vedanta Heritage Centre - ECPv6.14.2//NONSGML v1.0//EN
CALSCALE:GREGORIAN
METHOD:PUBLISH
X-ORIGINAL-URL:https://chinmayatoronto.org
X-WR-CALDESC:Events for Chinmaya Vedanta Heritage Centre
REFRESH-INTERVAL;VALUE=DURATION:PT1H
X-Robots-Tag:noindex
X-PUBLISHED-TTL:PT1H
BEGIN:VTIMEZONE
TZID:America/Toronto
BEGIN:DAYLIGHT
TZOFFSETFROM:-0500
TZOFFSETTO:-0400
TZNAME:EDT
DTSTART:20250309T070000
END:DAYLIGHT
BEGIN:STANDARD
TZOFFSETFROM:-0400
TZOFFSETTO:-0500
TZNAME:EST
DTSTART:20251102T060000
END:STANDARD
BEGIN:DAYLIGHT
TZOFFSETFROM:-0500
TZOFFSETTO:-0400
TZNAME:EDT
DTSTART:20260308T070000
END:DAYLIGHT
BEGIN:STANDARD
TZOFFSETFROM:-0400
TZOFFSETTO:-0500
TZNAME:EST
DTSTART:20261101T060000
END:STANDARD
END:VTIMEZONE
BEGIN:VEVENT
DTSTART;TZID=America/Toronto:20250905T100000
DTEND;TZID=America/Toronto:20260628T120000
DTSTAMP:20260424T113906
CREATED:20250905T152352Z
LAST-MODIFIED:20251009T012102Z
UID:10014890-1757066400-1782648000@chinmayatoronto.org
SUMMARY:2025/26 Balavihar Family Program Registration Ongoing for 2 Locations!
DESCRIPTION:Chinmaya Mission Toronto is proud to present the Bala Vihar Family Program\, weekly on Sundays at two locations. \nBrampton & Scarborough : 10am-12pm \nEvery Sunday Sep 7\, 2025 – Jun 28\, 2026 \nIn-Person Classes \nRegistration is ongoing  Register here \nExisting users can Login here \nSign up for a virtual information session here \nwww.chinmayatoronto.org/children-classes \nFor more information please contact either\nGeeta (416) 606-6352  or\nSuchitra (647) 926-9995
URL:https://chinmayatoronto.org/event/balavihar-family-program-2025-26-registration-ongoing-for-2-locations/
LOCATION:Chinmaya Shivalaya\, 8832 The Gore Road\, Brampton\, Ontario\, L6P 0B1\, Canada
CATEGORIES:Children Classes,Events
ATTACH;FMTTYPE=image/png:https://chinmayatoronto.org/wp-content/uploads/2025/09/Bv20261600.png
GEO:43.7685036;-79.6595957
X-APPLE-STRUCTURED-LOCATION;VALUE=URI;X-ADDRESS=Chinmaya Shivalaya 8832 The Gore Road Brampton Ontario L6P 0B1 Canada;X-APPLE-RADIUS=500;X-TITLE=8832 The Gore Road:geo:-79.6595957,43.7685036
END:VEVENT
END:VCALENDAR